BEGIN:VCALENDAR
VERSION:2.0
PRODID:-//Northwest Rhodesian Ridgeback Club - ECPv6.15.17.1//NONSGML v1.0//EN
CALSCALE:GREGORIAN
METHOD:PUBLISH
X-WR-CALNAME:Northwest Rhodesian Ridgeback Club
X-ORIGINAL-URL:https://nwrrc.org
X-WR-CALDESC:Events for Northwest Rhodesian Ridgeback Club
REFRESH-INTERVAL;VALUE=DURATION:PT1H
X-Robots-Tag:noindex
X-PUBLISHED-TTL:PT1H
BEGIN:VTIMEZONE
TZID:America/Denver
BEGIN:DAYLIGHT
TZOFFSETFROM:-0700
TZOFFSETTO:-0600
TZNAME:MDT
DTSTART:20250309T090000
END:DAYLIGHT
BEGIN:STANDARD
TZOFFSETFROM:-0600
TZOFFSETTO:-0700
TZNAME:MST
DTSTART:20251102T080000
END:STANDARD
BEGIN:DAYLIGHT
TZOFFSETFROM:-0700
TZOFFSETTO:-0600
TZNAME:MDT
DTSTART:20260308T090000
END:DAYLIGHT
BEGIN:STANDARD
TZOFFSETFROM:-0600
TZOFFSETTO:-0700
TZNAME:MST
DTSTART:20261101T080000
END:STANDARD
BEGIN:DAYLIGHT
TZOFFSETFROM:-0700
TZOFFSETTO:-0600
TZNAME:MDT
DTSTART:20270314T090000
END:DAYLIGHT
BEGIN:STANDARD
TZOFFSETFROM:-0600
TZOFFSETTO:-0700
TZNAME:MST
DTSTART:20271107T080000
END:STANDARD
END:VTIMEZONE
BEGIN:VEVENT
DTSTART;VALUE=DATE:20260718
DTEND;VALUE=DATE:20260720
DTSTAMP:20260419T074118
CREATED:20260316T184452Z
LAST-MODIFIED:20260325T214255Z
UID:10000049-1784332800-1784505599@nwrrc.org
SUMMARY:2ND ANNUAL NWRRC SPECIALTY & SUPPORTED ENTRY Tacoma KC\, Graham\, WA
DESCRIPTION:Details:\nSuperintendent: BaRay\nNOHS all three shows\nSat\, 7/18 – Second Annual NWRRC Regional Specialty RRCUS/NWRRC supported show with Medallion\nSat\, 7/18 – Tacoma KC\, RRCUS supported show sponsored by Annie Wickham\nSun\, 7/19 – RRCUS supported show with Medallion and Sweeps\, sponsored by Aimee Hart
URL:https://nwrrc.org/single-event/2nd-annual-nwrrc-specialty-supported-entry-tacoma-kc-graham-wa/
END:VEVENT
END:VCALENDAR